BEGIN:VCALENDAR
VERSION:2.0
PRODID:-//Metallfachschule Hessen - ECPv6.15.17.1//NONSGML v1.0//EN
CALSCALE:GREGORIAN
METHOD:PUBLISH
X-WR-CALNAME:Metallfachschule Hessen
X-ORIGINAL-URL:https://metallfachschule.de
X-WR-CALDESC:Veranstaltungen für Metallfachschule Hessen
REFRESH-INTERVAL;VALUE=DURATION:PT1H
X-Robots-Tag:noindex
X-PUBLISHED-TTL:PT1H
BEGIN:VTIMEZONE
TZID:Europe/Berlin
BEGIN:DAYLIGHT
TZOFFSETFROM:+0100
TZOFFSETTO:+0200
TZNAME:CEST
DTSTART:20250330T010000
END:DAYLIGHT
BEGIN:STANDARD
TZOFFSETFROM:+0200
TZOFFSETTO:+0100
TZNAME:CET
DTSTART:20251026T010000
END:STANDARD
BEGIN:DAYLIGHT
TZOFFSETFROM:+0100
TZOFFSETTO:+0200
TZNAME:CEST
DTSTART:20260329T010000
END:DAYLIGHT
BEGIN:STANDARD
TZOFFSETFROM:+0200
TZOFFSETTO:+0100
TZNAME:CET
DTSTART:20261025T010000
END:STANDARD
BEGIN:DAYLIGHT
TZOFFSETFROM:+0100
TZOFFSETTO:+0200
TZNAME:CEST
DTSTART:20270328T010000
END:DAYLIGHT
BEGIN:STANDARD
TZOFFSETFROM:+0200
TZOFFSETTO:+0100
TZNAME:CET
DTSTART:20271031T010000
END:STANDARD
END:VTIMEZONE
BEGIN:VEVENT
DTSTART;TZID=Europe/Berlin:20260421T090000
DTEND;TZID=Europe/Berlin:20260421T140000
DTSTAMP:20260421T115647
CREATED:20260220T135535Z
LAST-MODIFIED:20260220T135650Z
UID:3760-1776762000-1776780000@metallfachschule.de
SUMMARY:Schulung verantwortlicher Personen für Gefahrgut gemäß der § 27 (5) GGVSEB in Verbindung mit 1.3 ADR
DESCRIPTION:Gemäß Abschnitt 1.3 müssen alle beschäftigten Personen\, deren Arbeitsbereich die Beförderung gefährlicher Güter umfasst\, unterwiesen worden sein. Alle Arbeitnehmer müssen daher vor der Übernahme von Pflichten\, unterwiesen sein und dürfen Aufgaben\, für die eine Unterweisung noch nicht stattgefunden hat\, nur unter der Aufsicht einer bereits unterwiesenen Person wahrnehmen. \nDie Aufzeichnungen der Unterweisungen sind vom Arbeitgeber aufzubewahren und der zuständigen Behörde auf Verlangen vorzuzeigen. Verstöße gegen die Vorschriften stellen eine Ordnungswidrigkeit dar und können geahndet werden. \nInhalte\n\nBegriffsbestimmung Verantwortung\nGefahrgutrecht ADR 2021 i.V. m. Strafrecht\, Ordnungswidrigkeitengesetz\, Haftungsrecht u. a. Rechtsvorschriften mit Ausblick auf Änderungen zum 01.01.2023\nSchulungsbestimmungen nach §27 Abs. 5GGVSEB i. V. m. Kapitel 1.3 ADR\nPflichten der am Transport beteiligten Personen\nUnterscheidung Gefahrstoffrecht (GHS) und Gefahrgut\nGefahrenklassen\nFreistellungen (z. B. Handwerkerregel etc.)\nVerpackungsarten\nDurchführung der Beförderung (Ladesicherung auf Handwerkerfahrzeugen)\n\nZielgruppe\n\nFachkräfte für Arbeitssicherheit\nSicherheitsbeauftragte\nMitarbeiter die als befähigte/verantwortliche Personen eingesetzt werden\nFahrzeugführer die auf der Straße gefährlicher Güter befördern\n\nZiel\n\nErlangen der nötigen Kenntnisse für die beauftragte Person\nPersonen in Führungsverantwortung über die Gefahren und Rechtliche Verantwortlichkeiten im Umgang mit Gefahrgut zu unterweisen und zu sensibilisieren.\nAbschluss mit Zertifikat\n\nDie Bescheinigung dient als Nachweis gegenüber den zuständigen Überwachungsbehörden. Da die gesetzlichen Bestimmungen im Rahmen des ADR alle zwei Jahre angepasst werden\, empfehlen wir eine Auffrischung der Kenntnisse in zweijährigen Abständen. \nReferent\n\nWirth \, 35435 Wettenberg\n\nTermin/Kosten\n\nHalbtagesseminar am 21.04.2026 von 09:00 Uhr bis 14:00 Uhr\n\nSeminargebühr 60\,00 € zzgl. MwSt. \n\n\n	Download “Anmeldung-Gefahrguttransport.pdf”	Anmeldung-Gefahrguttransport.pdf		– 220-mal heruntergeladen		– 243\,58 KB
URL:https://metallfachschule.de/veranstaltung/schulung-verantwortlicher-personen-fuer-gefahrgut-gemaess-der-%c2%a7-27-5-ggvseb-in-verbindung-mit-1-3-adr/
LOCATION:Metallfachschule Hessen gGmbH\, Ludwig-Erhard-Straße 20\, Oberursel/Frankfurt a. M.\, 61440\, Deutschland
CATEGORIES:Seminar
END:VEVENT
END:VCALENDAR